BEGIN:VCALENDAR
VERSION:2.0
PRODID:-//The Red Lion Shepperton - ECPv6.2.4//NONSGML v1.0//EN
CALSCALE:GREGORIAN
METHOD:PUBLISH
X-WR-CALNAME:The Red Lion Shepperton
X-ORIGINAL-URL:https://www.redlionshepperton.com
X-WR-CALDESC:Events for The Red Lion Shepperton
REFRESH-INTERVAL;VALUE=DURATION:PT1H
X-Robots-Tag:noindex
X-PUBLISHED-TTL:PT1H
BEGIN:VTIMEZONE
TZID:UTC
BEGIN:STANDARD
TZOFFSETFROM:+0000
TZOFFSETTO:+0000
TZNAME:UTC
DTSTART:20240101T000000
END:STANDARD
END:VTIMEZONE
BEGIN:VEVENT
DTSTART;TZID=UTC:20241127T193000
DTEND;TZID=UTC:20241127T213000
DTSTAMP:20260424T081028
CREATED:20240926T000815Z
LAST-MODIFIED:20240926T000851Z
UID:10000063-1732735800-1732743000@www.redlionshepperton.com
SUMMARY:Music Bingo
DESCRIPTION:Brought to you by Interrupt The Routine\, this is a fun and exciting take on the classic game of bingo\, with songs replacing the numbers on the bingo card!\n\n\nTickets are £5 each and we guarantee you’ll be humming the songs in your head\, trying to rack your brain for the titles to be in with the chance to win some great prizes!\n\n\nGet your tickets now…
URL:https://www.redlionshepperton.com/event/music-bingo-27-nov-24/
LOCATION:The Red Lion\, Russell Rd\, Shepperton\, TW17 9HX\, United Kingdom
ATTACH;FMTTYPE=image/jpeg:https://www.redlionshepperton.com/wp-content/uploads/2024/09/music-bingo-large.jpg
END:VEVENT
BEGIN:VEVENT
DTSTART;VALUE=DATE:20241129
DTEND;VALUE=DATE:20241216
DTSTAMP:20260424T081028
CREATED:20241129T152153Z
LAST-MODIFIED:20241129T163600Z
UID:10000067-1732838400-1734307199@www.redlionshepperton.com
SUMMARY:Joy To The World
DESCRIPTION:Brought to you by Interrupt The Routine\, this is a fun and exciting take on the classic game of bingo\, with songs replacing the numbers on the bingo card!\n\n\nTickets are £5 each and we guarantee you’ll be humming the songs in your head\, trying to rack your brain for the titles to be in with the chance to win some great prizes!\n\n\nGet your tickets now…
URL:https://www.redlionshepperton.com/event/joy-to-the-world-december-24/
LOCATION:The Red Lion\, Russell Rd\, Shepperton\, TW17 9HX\, United Kingdom
ATTACH;FMTTYPE=image/jpeg:https://www.redlionshepperton.com/wp-content/uploads/2024/11/joy-to-the-world.jpg
END:VEVENT
BEGIN:VEVENT
DTSTART;TZID=UTC:20241204T190000
DTEND;TZID=UTC:20241204T220000
DTSTAMP:20260424T081028
CREATED:20241116T095222Z
LAST-MODIFIED:20241202T110945Z
UID:10000066-1733338800-1733349600@www.redlionshepperton.com
SUMMARY:Fizz & Champagne Tasting Evening
DESCRIPTION:Brought to you by Interrupt The Routine\, this is a fun and exciting take on the classic game of bingo\, with songs replacing the numbers on the bingo card!\n\n\nTickets are £5 each and we guarantee you’ll be humming the songs in your head\, trying to rack your brain for the titles to be in with the chance to win some great prizes!\n\n\nGet your tickets now…
URL:https://www.redlionshepperton.com/event/fizz-champagne-tasting-evening/
LOCATION:The Red Lion\, Russell Rd\, Shepperton\, TW17 9HX\, United Kingdom
ATTACH;FMTTYPE=image/jpeg:https://www.redlionshepperton.com/wp-content/uploads/2023/09/champagne-header.jpg
END:VEVENT
BEGIN:VEVENT
DTSTART;TZID=UTC:20241222T170000
DTEND;TZID=UTC:20241222T190000
DTSTAMP:20260424T081028
CREATED:20241220T105550Z
LAST-MODIFIED:20241220T105704Z
UID:10000068-1734886800-1734894000@www.redlionshepperton.com
SUMMARY:Bradley Cowtan
DESCRIPTION:Brought to you by Interrupt The Routine\, this is a fun and exciting take on the classic game of bingo\, with songs replacing the numbers on the bingo card!\n\n\nTickets are £5 each and we guarantee you’ll be humming the songs in your head\, trying to rack your brain for the titles to be in with the chance to win some great prizes!\n\n\nGet your tickets now…
URL:https://www.redlionshepperton.com/event/bradley-cowtan-22-december-24/
LOCATION:The Red Lion\, Russell Rd\, Shepperton\, TW17 9HX\, United Kingdom
ATTACH;FMTTYPE=image/jpeg:https://www.redlionshepperton.com/wp-content/uploads/2024/12/bradely-cowtan.jpg
END:VEVENT
BEGIN:VEVENT
DTSTART;TZID=UTC:20250125T170000
DTEND;TZID=UTC:20250125T190000
DTSTAMP:20260424T081028
CREATED:20250105T174928Z
LAST-MODIFIED:20250105T175459Z
UID:10000073-1737824400-1737831600@www.redlionshepperton.com
SUMMARY:Ruairi MacManus
DESCRIPTION:Brought to you by Interrupt The Routine\, this is a fun and exciting take on the classic game of bingo\, with songs replacing the numbers on the bingo card!\n\n\nTickets are £5 each and we guarantee you’ll be humming the songs in your head\, trying to rack your brain for the titles to be in with the chance to win some great prizes!\n\n\nGet your tickets now…
URL:https://www.redlionshepperton.com/event/ruairi-macmanus-26-jan-25/
LOCATION:The Red Lion\, Russell Rd\, Shepperton\, TW17 9HX\, United Kingdom
ATTACH;FMTTYPE=image/jpeg:https://www.redlionshepperton.com/wp-content/uploads/2025/01/ruairi.jpg
END:VEVENT
BEGIN:VEVENT
DTSTART;TZID=UTC:20250129T193000
DTEND;TZID=UTC:20250129T213000
DTSTAMP:20260424T081028
CREATED:20250105T171858Z
LAST-MODIFIED:20250128T141226Z
UID:10000071-1738179000-1738186200@www.redlionshepperton.com
SUMMARY:Music Bingo
DESCRIPTION:Brought to you by Interrupt The Routine\, this is a fun and exciting take on the classic game of bingo\, with songs replacing the numbers on the bingo card!\n\n\nTickets are £5 each and we guarantee you’ll be humming the songs in your head\, trying to rack your brain for the titles to be in with the chance to win some great prizes!\n\n\nGet your tickets now…
URL:https://www.redlionshepperton.com/event/music-bingo-29-jan-25/
LOCATION:The Red Lion\, Russell Rd\, Shepperton\, TW17 9HX\, United Kingdom
ATTACH;FMTTYPE=image/jpeg:https://www.redlionshepperton.com/wp-content/uploads/2024/09/music-bingo-large.jpg
END:VEVENT
BEGIN:VEVENT
DTSTART;TZID=UTC:20250223T170000
DTEND;TZID=UTC:20250223T190000
DTSTAMP:20260424T081028
CREATED:20250105T152724Z
LAST-MODIFIED:20250105T152812Z
UID:10000069-1740330000-1740337200@www.redlionshepperton.com
SUMMARY:Miss Fusion
DESCRIPTION:Brought to you by Interrupt The Routine\, this is a fun and exciting take on the classic game of bingo\, with songs replacing the numbers on the bingo card!\n\n\nTickets are £5 each and we guarantee you’ll be humming the songs in your head\, trying to rack your brain for the titles to be in with the chance to win some great prizes!\n\n\nGet your tickets now…
URL:https://www.redlionshepperton.com/event/miss-fusion-23-feb-25/
LOCATION:The Red Lion\, Russell Rd\, Shepperton\, TW17 9HX\, United Kingdom
ATTACH;FMTTYPE=image/jpeg:https://www.redlionshepperton.com/wp-content/uploads/2024/03/them-guapos.jpg
END:VEVENT
BEGIN:VEVENT
DTSTART;TZID=UTC:20250226T193000
DTEND;TZID=UTC:20250226T213000
DTSTAMP:20260424T081028
CREATED:20250105T173416Z
LAST-MODIFIED:20250225T132427Z
UID:10000072-1740598200-1740605400@www.redlionshepperton.com
SUMMARY:Music Bingo
DESCRIPTION:Brought to you by Interrupt The Routine\, this is a fun and exciting take on the classic game of bingo\, with songs replacing the numbers on the bingo card!\n\n\nTickets are £5 each and we guarantee you’ll be humming the songs in your head\, trying to rack your brain for the titles to be in with the chance to win some great prizes!\n\n\nGet your tickets now…
URL:https://www.redlionshepperton.com/event/music-bingo-26-feb-25/
LOCATION:The Red Lion\, Russell Rd\, Shepperton\, TW17 9HX\, United Kingdom
ATTACH;FMTTYPE=image/jpeg:https://www.redlionshepperton.com/wp-content/uploads/2024/09/music-bingo-large.jpg
END:VEVENT
BEGIN:VEVENT
DTSTART;TZID=UTC:20250318T183000
DTEND;TZID=UTC:20250318T230000
DTSTAMP:20260424T081028
CREATED:20250302T140009Z
LAST-MODIFIED:20250302T140656Z
UID:10000082-1742322600-1742338800@www.redlionshepperton.com
SUMMARY:Red Lion Rendezvous
DESCRIPTION:Brought to you by Interrupt The Routine\, this is a fun and exciting take on the classic game of bingo\, with songs replacing the numbers on the bingo card!\n\n\nTickets are £5 each and we guarantee you’ll be humming the songs in your head\, trying to rack your brain for the titles to be in with the chance to win some great prizes!\n\n\nGet your tickets now…
URL:https://www.redlionshepperton.com/event/red-lion-rendezvous-18-march-25/
LOCATION:The Red Lion\, Russell Rd\, Shepperton\, TW17 9HX\, United Kingdom
ATTACH;FMTTYPE=image/jpeg:https://www.redlionshepperton.com/wp-content/uploads/2025/03/rl-rendezvous-event.jpg
END:VEVENT
BEGIN:VEVENT
DTSTART;TZID=UTC:20250326T193000
DTEND;TZID=UTC:20250326T213000
DTSTAMP:20260424T081028
CREATED:20250214T142442Z
LAST-MODIFIED:20250322T204354Z
UID:10000074-1743017400-1743024600@www.redlionshepperton.com
SUMMARY:Music Bingo
DESCRIPTION:Brought to you by Interrupt The Routine\, this is a fun and exciting take on the classic game of bingo\, with songs replacing the numbers on the bingo card!\n\n\nTickets are £5 each and we guarantee you’ll be humming the songs in your head\, trying to rack your brain for the titles to be in with the chance to win some great prizes!\n\n\nGet your tickets now…
URL:https://www.redlionshepperton.com/event/music-bingo-26-march-25/
LOCATION:The Red Lion\, Russell Rd\, Shepperton\, TW17 9HX\, United Kingdom
ATTACH;FMTTYPE=image/jpeg:https://www.redlionshepperton.com/wp-content/uploads/2024/09/music-bingo-large.jpg
END:VEVENT
BEGIN:VEVENT
DTSTART;TZID=UTC:20250330T170000
DTEND;TZID=UTC:20250330T190000
DTSTAMP:20260424T081028
CREATED:20250322T204712Z
LAST-MODIFIED:20250322T204739Z
UID:10000083-1743354000-1743361200@www.redlionshepperton.com
SUMMARY:Miss Fusion
DESCRIPTION:Brought to you by Interrupt The Routine\, this is a fun and exciting take on the classic game of bingo\, with songs replacing the numbers on the bingo card!\n\n\nTickets are £5 each and we guarantee you’ll be humming the songs in your head\, trying to rack your brain for the titles to be in with the chance to win some great prizes!\n\n\nGet your tickets now…
URL:https://www.redlionshepperton.com/event/miss-fusion-30-march-25/
LOCATION:The Red Lion\, Russell Rd\, Shepperton\, TW17 9HX\, United Kingdom
ATTACH;FMTTYPE=image/jpeg:https://www.redlionshepperton.com/wp-content/uploads/2024/03/them-guapos.jpg
END:VEVENT
BEGIN:VEVENT
DTSTART;TZID=UTC:20250402T183000
DTEND;TZID=UTC:20250402T213000
DTSTAMP:20260424T081028
CREATED:20250329T113230Z
LAST-MODIFIED:20250329T114658Z
UID:10000084-1743618600-1743629400@www.redlionshepperton.com
SUMMARY:The Games Room
DESCRIPTION:Brought to you by Interrupt The Routine\, this is a fun and exciting take on the classic game of bingo\, with songs replacing the numbers on the bingo card!\n\n\nTickets are £5 each and we guarantee you’ll be humming the songs in your head\, trying to rack your brain for the titles to be in with the chance to win some great prizes!\n\n\nGet your tickets now…
URL:https://www.redlionshepperton.com/event/the-games-room-2-apr-25/
LOCATION:The Red Lion\, Russell Rd\, Shepperton\, TW17 9HX\, United Kingdom
ATTACH;FMTTYPE=image/jpeg:https://www.redlionshepperton.com/wp-content/uploads/2025/03/games-room-rl.jpg
END:VEVENT
BEGIN:VEVENT
DTSTART;TZID=UTC:20250408T190000
DTEND;TZID=UTC:20250408T210000
DTSTAMP:20260424T081029
CREATED:20250301T165438Z
LAST-MODIFIED:20250404T125020Z
UID:10000081-1744138800-1744146000@www.redlionshepperton.com
SUMMARY:Floristry Workshop
DESCRIPTION:Brought to you by Interrupt The Routine\, this is a fun and exciting take on the classic game of bingo\, with songs replacing the numbers on the bingo card!\n\n\nTickets are £5 each and we guarantee you’ll be humming the songs in your head\, trying to rack your brain for the titles to be in with the chance to win some great prizes!\n\n\nGet your tickets now…
URL:https://www.redlionshepperton.com/event/floristry-workshop-8-april-25/
LOCATION:The Red Lion\, Russell Rd\, Shepperton\, TW17 9HX\, United Kingdom
ATTACH;FMTTYPE=image/jpeg:https://www.redlionshepperton.com/wp-content/uploads/2025/03/flower-arranging-workshop.jpg
END:VEVENT
BEGIN:VEVENT
DTSTART;TZID=UTC:20250427T170000
DTEND;TZID=UTC:20250427T190000
DTSTAMP:20260424T081029
CREATED:20250214T145938Z
LAST-MODIFIED:20250214T150330Z
UID:10000078-1745773200-1745780400@www.redlionshepperton.com
SUMMARY:Ruairi MacManus
DESCRIPTION:Brought to you by Interrupt The Routine\, this is a fun and exciting take on the classic game of bingo\, with songs replacing the numbers on the bingo card!\n\n\nTickets are £5 each and we guarantee you’ll be humming the songs in your head\, trying to rack your brain for the titles to be in with the chance to win some great prizes!\n\n\nGet your tickets now…
URL:https://www.redlionshepperton.com/event/ruairi-macmanus-27-apr-25/
LOCATION:The Red Lion\, Russell Rd\, Shepperton\, TW17 9HX\, United Kingdom
ATTACH;FMTTYPE=image/jpeg:https://www.redlionshepperton.com/wp-content/uploads/2025/01/ruairi.jpg
END:VEVENT
BEGIN:VEVENT
DTSTART;TZID=UTC:20250430T193000
DTEND;TZID=UTC:20250430T213000
DTSTAMP:20260424T081029
CREATED:20250214T142731Z
LAST-MODIFIED:20250214T142816Z
UID:10000075-1746041400-1746048600@www.redlionshepperton.com
SUMMARY:Music Bingo
DESCRIPTION:Brought to you by Interrupt The Routine\, this is a fun and exciting take on the classic game of bingo\, with songs replacing the numbers on the bingo card!\n\n\nTickets are £5 each and we guarantee you’ll be humming the songs in your head\, trying to rack your brain for the titles to be in with the chance to win some great prizes!\n\n\nGet your tickets now…
URL:https://www.redlionshepperton.com/event/music-bingo-30-apr-25/
LOCATION:The Red Lion\, Russell Rd\, Shepperton\, TW17 9HX\, United Kingdom
ATTACH;FMTTYPE=image/jpeg:https://www.redlionshepperton.com/wp-content/uploads/2024/09/music-bingo-large.jpg
END:VEVENT
BEGIN:VEVENT
DTSTART;TZID=UTC:20250501T190000
DTEND;TZID=UTC:20250501T203000
DTSTAMP:20260424T081029
CREATED:20250417T103756Z
LAST-MODIFIED:20250417T103948Z
UID:10000091-1746126000-1746131400@www.redlionshepperton.com
SUMMARY:Cocktails & Candles
DESCRIPTION:Brought to you by Interrupt The Routine\, this is a fun and exciting take on the classic game of bingo\, with songs replacing the numbers on the bingo card!\n\n\nTickets are £5 each and we guarantee you’ll be humming the songs in your head\, trying to rack your brain for the titles to be in with the chance to win some great prizes!\n\n\nGet your tickets now…
URL:https://www.redlionshepperton.com/event/cocktails-candles/
LOCATION:The Red Lion\, Russell Rd\, Shepperton\, TW17 9HX\, United Kingdom
ATTACH;FMTTYPE=image/jpeg:https://www.redlionshepperton.com/wp-content/uploads/2025/04/cocktail-candles.jpg
END:VEVENT
BEGIN:VEVENT
DTSTART;TZID=UTC:20250525T170000
DTEND;TZID=UTC:20250525T190000
DTSTAMP:20260424T081029
CREATED:20250214T150455Z
LAST-MODIFIED:20250214T150616Z
UID:10000079-1748192400-1748199600@www.redlionshepperton.com
SUMMARY:Bradley Cowtan
DESCRIPTION:Brought to you by Interrupt The Routine\, this is a fun and exciting take on the classic game of bingo\, with songs replacing the numbers on the bingo card!\n\n\nTickets are £5 each and we guarantee you’ll be humming the songs in your head\, trying to rack your brain for the titles to be in with the chance to win some great prizes!\n\n\nGet your tickets now…
URL:https://www.redlionshepperton.com/event/bradley-cowtan-25-may-25/
LOCATION:The Red Lion\, Russell Rd\, Shepperton\, TW17 9HX\, United Kingdom
ATTACH;FMTTYPE=image/jpeg:https://www.redlionshepperton.com/wp-content/uploads/2024/12/bradely-cowtan.jpg
END:VEVENT
BEGIN:VEVENT
DTSTART;TZID=UTC:20250528T183000
DTEND;TZID=UTC:20250528T230000
DTSTAMP:20260424T081029
CREATED:20250522T180424Z
LAST-MODIFIED:20250522T180730Z
UID:10000092-1748457000-1748473200@www.redlionshepperton.com
SUMMARY:Red Lion Rendezvous (Music Bingo Edition)
DESCRIPTION:Brought to you by Interrupt The Routine\, this is a fun and exciting take on the classic game of bingo\, with songs replacing the numbers on the bingo card!\n\n\nTickets are £5 each and we guarantee you’ll be humming the songs in your head\, trying to rack your brain for the titles to be in with the chance to win some great prizes!\n\n\nGet your tickets now…
URL:https://www.redlionshepperton.com/event/red-lion-rendezvous-music-bingo-edition/
LOCATION:The Red Lion\, Russell Rd\, Shepperton\, TW17 9HX\, United Kingdom
ATTACH;FMTTYPE=image/jpeg:https://www.redlionshepperton.com/wp-content/uploads/2025/03/rl-rendezvous-event.jpg
END:VEVENT
BEGIN:VEVENT
DTSTART;TZID=UTC:20250528T193000
DTEND;TZID=UTC:20250528T213000
DTSTAMP:20260424T081029
CREATED:20250214T144309Z
LAST-MODIFIED:20250214T144400Z
UID:10000076-1748460600-1748467800@www.redlionshepperton.com
SUMMARY:Music Bingo
DESCRIPTION:Brought to you by Interrupt The Routine\, this is a fun and exciting take on the classic game of bingo\, with songs replacing the numbers on the bingo card!\n\n\nTickets are £5 each and we guarantee you’ll be humming the songs in your head\, trying to rack your brain for the titles to be in with the chance to win some great prizes!\n\n\nGet your tickets now…
URL:https://www.redlionshepperton.com/event/music-bingo-28-may-25/
LOCATION:The Red Lion\, Russell Rd\, Shepperton\, TW17 9HX\, United Kingdom
ATTACH;FMTTYPE=image/jpeg:https://www.redlionshepperton.com/wp-content/uploads/2024/09/music-bingo-large.jpg
END:VEVENT
BEGIN:VEVENT
DTSTART;TZID=UTC:20250625T193000
DTEND;TZID=UTC:20250625T213000
DTSTAMP:20260424T081029
CREATED:20250214T144635Z
LAST-MODIFIED:20250330T130002Z
UID:10000077-1750879800-1750887000@www.redlionshepperton.com
SUMMARY:Music Bingo
DESCRIPTION:Brought to you by Interrupt The Routine\, this is a fun and exciting take on the classic game of bingo\, with songs replacing the numbers on the bingo card!\n\n\nTickets are £5 each and we guarantee you’ll be humming the songs in your head\, trying to rack your brain for the titles to be in with the chance to win some great prizes!\n\n\nGet your tickets now…
URL:https://www.redlionshepperton.com/event/music-bingo-25-jun-25/
LOCATION:The Red Lion\, Russell Rd\, Shepperton\, TW17 9HX\, United Kingdom
ATTACH;FMTTYPE=image/jpeg:https://www.redlionshepperton.com/wp-content/uploads/2024/09/music-bingo-large.jpg
END:VEVENT
BEGIN:VEVENT
DTSTART;TZID=UTC:20250629T170000
DTEND;TZID=UTC:20250629T190000
DTSTAMP:20260424T081029
CREATED:20250214T150811Z
LAST-MODIFIED:20250214T150847Z
UID:10000080-1751216400-1751223600@www.redlionshepperton.com
SUMMARY:To The River
DESCRIPTION:Brought to you by Interrupt The Routine\, this is a fun and exciting take on the classic game of bingo\, with songs replacing the numbers on the bingo card!\n\n\nTickets are £5 each and we guarantee you’ll be humming the songs in your head\, trying to rack your brain for the titles to be in with the chance to win some great prizes!\n\n\nGet your tickets now…
URL:https://www.redlionshepperton.com/event/to-the-river-29-jun-25/
LOCATION:The Red Lion\, Russell Rd\, Shepperton\, TW17 9HX\, United Kingdom
ATTACH;FMTTYPE=image/jpeg:https://www.redlionshepperton.com/wp-content/uploads/2024/03/to-the-river.jpg
END:VEVENT
BEGIN:VEVENT
DTSTART;TZID=UTC:20250708T190000
DTEND;TZID=UTC:20250708T210000
DTSTAMP:20260424T081029
CREATED:20250604T085930Z
LAST-MODIFIED:20250604T090226Z
UID:10000093-1752001200-1752008400@www.redlionshepperton.com
SUMMARY:Floristry Workshop
DESCRIPTION:Brought to you by Interrupt The Routine\, this is a fun and exciting take on the classic game of bingo\, with songs replacing the numbers on the bingo card!\n\n\nTickets are £5 each and we guarantee you’ll be humming the songs in your head\, trying to rack your brain for the titles to be in with the chance to win some great prizes!\n\n\nGet your tickets now…
URL:https://www.redlionshepperton.com/event/floristry-workshop-8-july-25/
LOCATION:The Red Lion\, Russell Rd\, Shepperton\, TW17 9HX\, United Kingdom
ATTACH;FMTTYPE=image/jpeg:https://www.redlionshepperton.com/wp-content/uploads/2025/06/flower-arranging-1.jpg
END:VEVENT
BEGIN:VEVENT
DTSTART;TZID=UTC:20250727T170000
DTEND;TZID=UTC:20250727T190000
DTSTAMP:20260424T081029
CREATED:20250625T193114Z
LAST-MODIFIED:20250625T193206Z
UID:10000094-1753635600-1753642800@www.redlionshepperton.com
SUMMARY:Acoustic FlyTrap
DESCRIPTION:Brought to you by Interrupt The Routine\, this is a fun and exciting take on the classic game of bingo\, with songs replacing the numbers on the bingo card!\n\n\nTickets are £5 each and we guarantee you’ll be humming the songs in your head\, trying to rack your brain for the titles to be in with the chance to win some great prizes!\n\n\nGet your tickets now…
URL:https://www.redlionshepperton.com/event/acoustic-flytrap-27-july-25/
LOCATION:The Red Lion\, Russell Rd\, Shepperton\, TW17 9HX\, United Kingdom
ATTACH;FMTTYPE=image/jpeg:https://www.redlionshepperton.com/wp-content/uploads/2024/06/acoustic-flytrap.jpg
END:VEVENT
BEGIN:VEVENT
DTSTART;TZID=UTC:20250730T193000
DTEND;TZID=UTC:20250730T213000
DTSTAMP:20260424T081029
CREATED:20250625T194722Z
LAST-MODIFIED:20250625T194755Z
UID:10000097-1753903800-1753911000@www.redlionshepperton.com
SUMMARY:Music Bingo
DESCRIPTION:Brought to you by Interrupt The Routine\, this is a fun and exciting take on the classic game of bingo\, with songs replacing the numbers on the bingo card!\n\n\nTickets are £5 each and we guarantee you’ll be humming the songs in your head\, trying to rack your brain for the titles to be in with the chance to win some great prizes!\n\n\nGet your tickets now…
URL:https://www.redlionshepperton.com/event/music-bingo-30-july-25/
LOCATION:The Red Lion\, Russell Rd\, Shepperton\, TW17 9HX\, United Kingdom
ATTACH;FMTTYPE=image/jpeg:https://www.redlionshepperton.com/wp-content/uploads/2024/09/music-bingo-large.jpg
END:VEVENT
BEGIN:VEVENT
DTSTART;TZID=UTC:20250813T190000
DTEND;TZID=UTC:20250813T220000
DTSTAMP:20260424T081029
CREATED:20250731T135414Z
LAST-MODIFIED:20250731T135524Z
UID:10000100-1755111600-1755122400@www.redlionshepperton.com
SUMMARY:Brush Party
DESCRIPTION:Brought to you by Interrupt The Routine\, this is a fun and exciting take on the classic game of bingo\, with songs replacing the numbers on the bingo card!\n\n\nTickets are £5 each and we guarantee you’ll be humming the songs in your head\, trying to rack your brain for the titles to be in with the chance to win some great prizes!\n\n\nGet your tickets now…
URL:https://www.redlionshepperton.com/event/brush-party-13-aug-25/
LOCATION:The Red Lion\, Russell Rd\, Shepperton\, TW17 9HX\, United Kingdom
ATTACH;FMTTYPE=image/jpeg:https://www.redlionshepperton.com/wp-content/uploads/2025/07/brush-party.jpg
END:VEVENT
BEGIN:VEVENT
DTSTART;TZID=UTC:20250827T193000
DTEND;TZID=UTC:20250827T213000
DTSTAMP:20260424T081029
CREATED:20250625T194950Z
LAST-MODIFIED:20250826T172454Z
UID:10000098-1756323000-1756330200@www.redlionshepperton.com
SUMMARY:Music Bingo
DESCRIPTION:Brought to you by Interrupt The Routine\, this is a fun and exciting take on the classic game of bingo\, with songs replacing the numbers on the bingo card!\n\n\nTickets are £5 each and we guarantee you’ll be humming the songs in your head\, trying to rack your brain for the titles to be in with the chance to win some great prizes!\n\n\nGet your tickets now…
URL:https://www.redlionshepperton.com/event/music-bingo-27-aug-25/
LOCATION:The Red Lion\, Russell Rd\, Shepperton\, TW17 9HX\, United Kingdom
ATTACH;FMTTYPE=image/jpeg:https://www.redlionshepperton.com/wp-content/uploads/2024/09/music-bingo-large.jpg
END:VEVENT
BEGIN:VEVENT
DTSTART;TZID=UTC:20250831T170000
DTEND;TZID=UTC:20250831T190000
DTSTAMP:20260424T081029
CREATED:20250625T193334Z
LAST-MODIFIED:20250625T193414Z
UID:10000095-1756659600-1756666800@www.redlionshepperton.com
SUMMARY:Miss Fusion
DESCRIPTION:Brought to you by Interrupt The Routine\, this is a fun and exciting take on the classic game of bingo\, with songs replacing the numbers on the bingo card!\n\n\nTickets are £5 each and we guarantee you’ll be humming the songs in your head\, trying to rack your brain for the titles to be in with the chance to win some great prizes!\n\n\nGet your tickets now…
URL:https://www.redlionshepperton.com/event/miss-fusion-31-aug-25/
LOCATION:The Red Lion\, Russell Rd\, Shepperton\, TW17 9HX\, United Kingdom
ATTACH;FMTTYPE=image/jpeg:https://www.redlionshepperton.com/wp-content/uploads/2024/03/them-guapos.jpg
END:VEVENT
BEGIN:VEVENT
DTSTART;TZID=UTC:20250924T193000
DTEND;TZID=UTC:20250924T213000
DTSTAMP:20260424T081029
CREATED:20250902T095016Z
LAST-MODIFIED:20250902T095016Z
UID:10000102-1758742200-1758749400@www.redlionshepperton.com
SUMMARY:Music Bingo
DESCRIPTION:Brought to you by Interrupt The Routine\, this is a fun and exciting take on the classic game of bingo\, with songs replacing the numbers on the bingo card!\n\n\nTickets are £5 each and we guarantee you’ll be humming the songs in your head\, trying to rack your brain for the titles to be in with the chance to win some great prizes!\n\n\nGet your tickets now…
URL:https://www.redlionshepperton.com/event/music-bingo-24-sept-25/
LOCATION:The Red Lion\, Russell Rd\, Shepperton\, TW17 9HX\, United Kingdom
ATTACH;FMTTYPE=image/jpeg:https://www.redlionshepperton.com/wp-content/uploads/2024/09/music-bingo-large.jpg
END:VEVENT
BEGIN:VEVENT
DTSTART;TZID=UTC:20250928T170000
DTEND;TZID=UTC:20250928T190000
DTSTAMP:20260424T081029
CREATED:20250625T193514Z
LAST-MODIFIED:20250625T193545Z
UID:10000096-1759078800-1759086000@www.redlionshepperton.com
SUMMARY:Bradley Cowtan
DESCRIPTION:Brought to you by Interrupt The Routine\, this is a fun and exciting take on the classic game of bingo\, with songs replacing the numbers on the bingo card!\n\n\nTickets are £5 each and we guarantee you’ll be humming the songs in your head\, trying to rack your brain for the titles to be in with the chance to win some great prizes!\n\n\nGet your tickets now…
URL:https://www.redlionshepperton.com/event/bradley-cowtan-28-sept-25/
LOCATION:The Red Lion\, Russell Rd\, Shepperton\, TW17 9HX\, United Kingdom
ATTACH;FMTTYPE=image/jpeg:https://www.redlionshepperton.com/wp-content/uploads/2024/12/bradely-cowtan.jpg
END:VEVENT
BEGIN:VEVENT
DTSTART;TZID=UTC:20251001T190000
DTEND;TZID=UTC:20251001T220000
DTSTAMP:20260424T081029
CREATED:20250827T094837Z
LAST-MODIFIED:20250917T111334Z
UID:10000101-1759345200-1759356000@www.redlionshepperton.com
SUMMARY:Brush Party - Sold Out!
DESCRIPTION:Brought to you by Interrupt The Routine\, this is a fun and exciting take on the classic game of bingo\, with songs replacing the numbers on the bingo card!\n\n\nTickets are £5 each and we guarantee you’ll be humming the songs in your head\, trying to rack your brain for the titles to be in with the chance to win some great prizes!\n\n\nGet your tickets now…
URL:https://www.redlionshepperton.com/event/brush-party-1-oct-25/
LOCATION:The Red Lion\, Russell Rd\, Shepperton\, TW17 9HX\, United Kingdom
ATTACH;FMTTYPE=image/jpeg:https://www.redlionshepperton.com/wp-content/uploads/2025/08/brush-party-maquerade-moon.jpg
END:VEVENT
END:VCALENDAR