BEGIN:VCALENDAR
VERSION:2.0
PRODID:-//The Red Lion Shepperton - ECPv6.2.4//NONSGML v1.0//EN
CALSCALE:GREGORIAN
METHOD:PUBLISH
X-WR-CALNAME:The Red Lion Shepperton
X-ORIGINAL-URL:https://www.redlionshepperton.com
X-WR-CALDESC:Events for The Red Lion Shepperton
REFRESH-INTERVAL;VALUE=DURATION:PT1H
X-Robots-Tag:noindex
X-PUBLISHED-TTL:PT1H
BEGIN:VTIMEZONE
TZID:UTC
BEGIN:STANDARD
TZOFFSETFROM:+0000
TZOFFSETTO:+0000
TZNAME:UTC
DTSTART:20230101T000000
END:STANDARD
END:VTIMEZONE
BEGIN:VEVENT
DTSTART;TZID=UTC:20240609T170000
DTEND;TZID=UTC:20240609T190000
DTSTAMP:20260422T083110
CREATED:20240424T200537Z
LAST-MODIFIED:20240424T200600Z
UID:10000038-1717952400-1717959600@www.redlionshepperton.com
SUMMARY:Play The Space
DESCRIPTION:SATURDAY NIGHT LIVE!				\n				\n				\n				\n									Come and enjoy this duo…\n\n\nShow starts at 7pm.
URL:https://www.redlionshepperton.com/event/play-the-space-9-jun-24/
LOCATION:The Red Lion\, Russell Rd\, Shepperton\, TW17 9HX\, United Kingdom
ATTACH;FMTTYPE=image/jpeg:https://www.redlionshepperton.com/wp-content/uploads/2024/03/pts.jpg
END:VEVENT
BEGIN:VEVENT
DTSTART;TZID=UTC:20240602T170000
DTEND;TZID=UTC:20240602T190000
DTSTAMP:20260422T083110
CREATED:20240424T195835Z
LAST-MODIFIED:20240424T195908Z
UID:10000035-1717347600-1717354800@www.redlionshepperton.com
SUMMARY:To The River
DESCRIPTION:SATURDAY NIGHT LIVE!				\n				\n				\n				\n									Come and enjoy this duo…\n\n\nShow starts at 7pm.
URL:https://www.redlionshepperton.com/event/to-the-river-2-jun-24/
LOCATION:The Red Lion\, Russell Rd\, Shepperton\, TW17 9HX\, United Kingdom
ATTACH;FMTTYPE=image/jpeg:https://www.redlionshepperton.com/wp-content/uploads/2024/03/to-the-river.jpg
END:VEVENT
BEGIN:VEVENT
DTSTART;TZID=UTC:20240529T190000
DTEND;TZID=UTC:20240529T220000
DTSTAMP:20260422T083110
CREATED:20240424T161522Z
LAST-MODIFIED:20240424T161557Z
UID:10000033-1717009200-1717020000@www.redlionshepperton.com
SUMMARY:Quiz Night!
DESCRIPTION:SATURDAY NIGHT LIVE!				\n				\n				\n				\n									Come and enjoy this duo…\n\n\nShow starts at 7pm.
URL:https://www.redlionshepperton.com/event/quiz-night-29-may-24/
LOCATION:The Red Lion\, Russell Rd\, Shepperton\, TW17 9HX\, United Kingdom
ATTACH;FMTTYPE=image/jpeg:https://www.redlionshepperton.com/wp-content/uploads/2024/01/pub-quiz-new.jpg
END:VEVENT
BEGIN:VEVENT
DTSTART;TZID=UTC:20240512T170000
DTEND;TZID=UTC:20240512T190000
DTSTAMP:20260422T083110
CREATED:20240424T200318Z
LAST-MODIFIED:20240424T200358Z
UID:10000037-1715533200-1715540400@www.redlionshepperton.com
SUMMARY:Samuel Scarrot
DESCRIPTION:SATURDAY NIGHT LIVE!				\n				\n				\n				\n									Come and enjoy this duo…\n\n\nShow starts at 7pm.
URL:https://www.redlionshepperton.com/event/samuel-scarrot-12-may-24/
LOCATION:The Red Lion\, Russell Rd\, Shepperton\, TW17 9HX\, United Kingdom
ATTACH;FMTTYPE=image/jpeg:https://www.redlionshepperton.com/wp-content/uploads/2024/03/samuel-rex.jpg
END:VEVENT
BEGIN:VEVENT
DTSTART;TZID=UTC:20240505T170000
DTEND;TZID=UTC:20240505T190000
DTSTAMP:20260422T083110
CREATED:20240424T195549Z
LAST-MODIFIED:20240424T195741Z
UID:10000034-1714928400-1714935600@www.redlionshepperton.com
SUMMARY:To The River
DESCRIPTION:SATURDAY NIGHT LIVE!				\n				\n				\n				\n									Come and enjoy this duo…\n\n\nShow starts at 7pm.
URL:https://www.redlionshepperton.com/event/to-the-river-5-may-24/
LOCATION:The Red Lion\, Russell Rd\, Shepperton\, TW17 9HX\, United Kingdom
ATTACH;FMTTYPE=image/jpeg:https://www.redlionshepperton.com/wp-content/uploads/2024/03/to-the-river.jpg
END:VEVENT
BEGIN:VEVENT
DTSTART;TZID=UTC:20240428T170000
DTEND;TZID=UTC:20240428T190000
DTSTAMP:20260422T083110
CREATED:20240304T125125Z
LAST-MODIFIED:20240424T195417Z
UID:10000032-1714323600-1714330800@www.redlionshepperton.com
SUMMARY:Miss Fusion
DESCRIPTION:SATURDAY NIGHT LIVE!				\n				\n				\n				\n									Come and enjoy this duo…\n\n\nShow starts at 7pm.
URL:https://www.redlionshepperton.com/event/miss-fusion-28-april-24/
LOCATION:The Red Lion\, Russell Rd\, Shepperton\, TW17 9HX\, United Kingdom
ATTACH;FMTTYPE=image/jpeg:https://www.redlionshepperton.com/wp-content/uploads/2024/03/them-guapos.jpg
END:VEVENT
BEGIN:VEVENT
DTSTART;TZID=UTC:20240424T190000
DTEND;TZID=UTC:20240424T220000
DTSTAMP:20260422T083110
CREATED:20240124T142856Z
LAST-MODIFIED:20240424T153210Z
UID:10000025-1713985200-1713996000@www.redlionshepperton.com
SUMMARY:Quiz Night!
DESCRIPTION:SATURDAY NIGHT LIVE!				\n				\n				\n				\n									Come and enjoy this duo…\n\n\nShow starts at 7pm.
URL:https://www.redlionshepperton.com/event/quiz-night-24-apr-24/
LOCATION:The Red Lion\, Russell Rd\, Shepperton\, TW17 9HX\, United Kingdom
ATTACH;FMTTYPE=image/jpeg:https://www.redlionshepperton.com/wp-content/uploads/2024/01/pub-quiz-new.jpg
END:VEVENT
BEGIN:VEVENT
DTSTART;TZID=UTC:20240414T170000
DTEND;TZID=UTC:20240414T190000
DTSTAMP:20260422T083110
CREATED:20240304T123938Z
LAST-MODIFIED:20240411T174718Z
UID:10000031-1713114000-1713121200@www.redlionshepperton.com
SUMMARY:Play The Space
DESCRIPTION:SATURDAY NIGHT LIVE!				\n				\n				\n				\n									Come and enjoy this duo…\n\n\nShow starts at 7pm.
URL:https://www.redlionshepperton.com/event/play-the-space-14-april-24/
LOCATION:The Red Lion\, Russell Rd\, Shepperton\, TW17 9HX\, United Kingdom
ATTACH;FMTTYPE=image/jpeg:https://www.redlionshepperton.com/wp-content/uploads/2024/03/pts.jpg
END:VEVENT
BEGIN:VEVENT
DTSTART;TZID=UTC:20240327T190000
DTEND;TZID=UTC:20240327T220000
DTSTAMP:20260422T083110
CREATED:20240124T142504Z
LAST-MODIFIED:20240325T150839Z
UID:10000024-1711566000-1711576800@www.redlionshepperton.com
SUMMARY:Quiz Night!
DESCRIPTION:SATURDAY NIGHT LIVE!				\n				\n				\n				\n									Come and enjoy this duo…\n\n\nShow starts at 7pm.
URL:https://www.redlionshepperton.com/event/quiz-night-27-mar-24/
LOCATION:The Red Lion\, Russell Rd\, Shepperton\, TW17 9HX\, United Kingdom
ATTACH;FMTTYPE=image/jpeg:https://www.redlionshepperton.com/wp-content/uploads/2023/10/pub-quiz.jpg
END:VEVENT
BEGIN:VEVENT
DTSTART;TZID=UTC:20240324T200000
DTEND;TZID=UTC:20240324T230000
DTSTAMP:20260422T083110
CREATED:20240304T123704Z
LAST-MODIFIED:20240304T123706Z
UID:10000030-1711310400-1711321200@www.redlionshepperton.com
SUMMARY:Samuel Rex
DESCRIPTION:SATURDAY NIGHT LIVE!				\n				\n				\n				\n									Come and enjoy this duo…\n\n\nShow starts at 7pm.
URL:https://www.redlionshepperton.com/event/samuel-rex-24-march-24/
LOCATION:The Red Lion\, Russell Rd\, Shepperton\, TW17 9HX\, United Kingdom
ATTACH;FMTTYPE=image/jpeg:https://www.redlionshepperton.com/wp-content/uploads/2024/03/samuel-rex.jpg
END:VEVENT
BEGIN:VEVENT
DTSTART;TZID=UTC:20240317T200000
DTEND;TZID=UTC:20240317T230000
DTSTAMP:20260422T083110
CREATED:20240304T123112Z
LAST-MODIFIED:20240304T123114Z
UID:10000029-1710705600-1710716400@www.redlionshepperton.com
SUMMARY:Them Guapos
DESCRIPTION:SATURDAY NIGHT LIVE!				\n				\n				\n				\n									Come and enjoy this duo…\n\n\nShow starts at 7pm.
URL:https://www.redlionshepperton.com/event/them-guapos-17-march-24/
LOCATION:The Red Lion\, Russell Rd\, Shepperton\, TW17 9HX\, United Kingdom
ATTACH;FMTTYPE=image/jpeg:https://www.redlionshepperton.com/wp-content/uploads/2024/03/them-guapos.jpg
END:VEVENT
BEGIN:VEVENT
DTSTART;TZID=UTC:20240310T200000
DTEND;TZID=UTC:20240310T230000
DTSTAMP:20260422T083110
CREATED:20240304T122125Z
LAST-MODIFIED:20240304T122303Z
UID:10000028-1710100800-1710111600@www.redlionshepperton.com
SUMMARY:To The River
DESCRIPTION:SATURDAY NIGHT LIVE!				\n				\n				\n				\n									Come and enjoy this duo…\n\n\nShow starts at 7pm.
URL:https://www.redlionshepperton.com/event/to-the-river-10-march-24/
LOCATION:The Red Lion\, Russell Rd\, Shepperton\, TW17 9HX\, United Kingdom
ATTACH;FMTTYPE=image/jpeg:https://www.redlionshepperton.com/wp-content/uploads/2024/03/to-the-river.jpg
END:VEVENT
BEGIN:VEVENT
DTSTART;TZID=UTC:20240228T190000
DTEND;TZID=UTC:20240228T220000
DTSTAMP:20260422T083110
CREATED:20240124T141816Z
LAST-MODIFIED:20240124T141818Z
UID:10000023-1709146800-1709157600@www.redlionshepperton.com
SUMMARY:Quiz Night!
DESCRIPTION:SATURDAY NIGHT LIVE!				\n				\n				\n				\n									Come and enjoy this duo…\n\n\nShow starts at 7pm.
URL:https://www.redlionshepperton.com/event/quiz-night-28-feb-24/
LOCATION:The Red Lion\, Russell Rd\, Shepperton\, TW17 9HX\, United Kingdom
ATTACH;FMTTYPE=image/jpeg:https://www.redlionshepperton.com/wp-content/uploads/2023/10/pub-quiz.jpg
END:VEVENT
BEGIN:VEVENT
DTSTART;TZID=UTC:20240221T190000
DTEND;TZID=UTC:20240221T220000
DTSTAMP:20260422T083110
CREATED:20240201T090204Z
LAST-MODIFIED:20240221T104042Z
UID:10000027-1708542000-1708552800@www.redlionshepperton.com
SUMMARY:The Best of South Africa - Wine Tasting Evening
DESCRIPTION:SATURDAY NIGHT LIVE!				\n				\n				\n				\n									Come and enjoy this duo…\n\n\nShow starts at 7pm.
URL:https://www.redlionshepperton.com/event/the-best-of-south-africa-wine-tasting-evening/
LOCATION:The Red Lion\, Russell Rd\, Shepperton\, TW17 9HX\, United Kingdom
ATTACH;FMTTYPE=image/jpeg:https://www.redlionshepperton.com/wp-content/uploads/2023/02/wines-v2.jpg
END:VEVENT
BEGIN:VEVENT
DTSTART;TZID=UTC:20231212T190000
DTEND;TZID=UTC:20231212T220000
DTSTAMP:20260422T083110
CREATED:20231024T170604Z
LAST-MODIFIED:20231211T112018Z
UID:10000016-1702407600-1702418400@www.redlionshepperton.com
SUMMARY:Quiz Night!
DESCRIPTION:SATURDAY NIGHT LIVE!				\n				\n				\n				\n									Come and enjoy this duo…\n\n\nShow starts at 7pm.
URL:https://www.redlionshepperton.com/event/quiz-night-12-december-23/
LOCATION:The Red Lion\, Russell Rd\, Shepperton\, TW17 9HX\, United Kingdom
ATTACH;FMTTYPE=image/jpeg:https://www.redlionshepperton.com/wp-content/uploads/2023/10/pub-quiz.jpg
END:VEVENT
BEGIN:VEVENT
DTSTART;VALUE=DATE:20231210
DTEND;VALUE=DATE:20231211
DTSTAMP:20260422T083110
CREATED:20231127T143544Z
LAST-MODIFIED:20231127T144726Z
UID:10000022-1702166400-1702252799@www.redlionshepperton.com
SUMMARY:Table for a hero
DESCRIPTION:SATURDAY NIGHT LIVE!				\n				\n				\n				\n									Come and enjoy this duo…\n\n\nShow starts at 7pm.
URL:https://www.redlionshepperton.com/event/table-for-a-hero/
LOCATION:The Red Lion\, Russell Rd\, Shepperton\, TW17 9HX\, United Kingdom
ATTACH;FMTTYPE=image/jpeg:https://www.redlionshepperton.com/wp-content/uploads/2023/11/table-for-a-hero.jpg
END:VEVENT
BEGIN:VEVENT
DTSTART;TZID=UTC:20231130T180000
DTEND;TZID=UTC:20231130T200000
DTSTAMP:20260422T083110
CREATED:20231025T084530Z
LAST-MODIFIED:20231025T163127Z
UID:10000020-1701367200-1701374400@www.redlionshepperton.com
SUMMARY:Candle Making Workshop
DESCRIPTION:SATURDAY NIGHT LIVE!				\n				\n				\n				\n									Come and enjoy this duo…\n\n\nShow starts at 7pm.
URL:https://www.redlionshepperton.com/event/candle-making-workshop-30-november-23/
LOCATION:The Red Lion\, Russell Rd\, Shepperton\, TW17 9HX\, United Kingdom
ATTACH;FMTTYPE=image/jpeg:https://www.redlionshepperton.com/wp-content/uploads/2023/10/candle-making-workshop.jpg
END:VEVENT
BEGIN:VEVENT
DTSTART;TZID=UTC:20231128T190000
DTEND;TZID=UTC:20231128T220000
DTSTAMP:20260422T083110
CREATED:20231025T081602Z
LAST-MODIFIED:20231025T163953Z
UID:10000018-1701198000-1701208800@www.redlionshepperton.com
SUMMARY:Xmas Wreath Making Workshop
DESCRIPTION:SATURDAY NIGHT LIVE!				\n				\n				\n				\n									Come and enjoy this duo…\n\n\nShow starts at 7pm.
URL:https://www.redlionshepperton.com/event/xmas-wreath-making-workshop-28-november-23/
LOCATION:The Red Lion\, Russell Rd\, Shepperton\, TW17 9HX\, United Kingdom
ATTACH;FMTTYPE=image/jpeg:https://www.redlionshepperton.com/wp-content/uploads/2023/10/wreath-making-workshop.jpg
END:VEVENT
BEGIN:VEVENT
DTSTART;TZID=UTC:20231127T190000
DTEND;TZID=UTC:20231127T220000
DTSTAMP:20260422T083110
CREATED:20231024T175836Z
LAST-MODIFIED:20231025T163807Z
UID:10000017-1701111600-1701122400@www.redlionshepperton.com
SUMMARY:Xmas Wreath Making Workshop
DESCRIPTION:SATURDAY NIGHT LIVE!				\n				\n				\n				\n									Come and enjoy this duo…\n\n\nShow starts at 7pm.
URL:https://www.redlionshepperton.com/event/xmas-wreath-making-workshop-27-november-23/
LOCATION:The Red Lion\, Russell Rd\, Shepperton\, TW17 9HX\, United Kingdom
ATTACH;FMTTYPE=image/jpeg:https://www.redlionshepperton.com/wp-content/uploads/2023/10/wreath-making-workshop.jpg
END:VEVENT
BEGIN:VEVENT
DTSTART;TZID=UTC:20231107T190000
DTEND;TZID=UTC:20231107T220000
DTSTAMP:20260422T083110
CREATED:20231024T163659Z
LAST-MODIFIED:20231030T162556Z
UID:10000014-1699383600-1699394400@www.redlionshepperton.com
SUMMARY:Quiz Night!
DESCRIPTION:SATURDAY NIGHT LIVE!				\n				\n				\n				\n									Come and enjoy this duo…\n\n\nShow starts at 7pm.
URL:https://www.redlionshepperton.com/event/quiz-night-7-november-23/
LOCATION:The Red Lion\, Russell Rd\, Shepperton\, TW17 9HX\, United Kingdom
ATTACH;FMTTYPE=image/jpeg:https://www.redlionshepperton.com/wp-content/uploads/2023/10/quiz-night-sold-out-1.jpg
END:VEVENT
BEGIN:VEVENT
DTSTART;TZID=UTC:20231104T100000
DTEND;TZID=UTC:20231104T120000
DTSTAMP:20260422T083110
CREATED:20231025T083555Z
LAST-MODIFIED:20231025T162851Z
UID:10000019-1699092000-1699099200@www.redlionshepperton.com
SUMMARY:Candle Making Workshop
DESCRIPTION:SATURDAY NIGHT LIVE!				\n				\n				\n				\n									Come and enjoy this duo…\n\n\nShow starts at 7pm.
URL:https://www.redlionshepperton.com/event/candle-making-workshop-4-november-23/
LOCATION:The Red Lion\, Russell Rd\, Shepperton\, TW17 9HX\, United Kingdom
ATTACH;FMTTYPE=image/jpeg:https://www.redlionshepperton.com/wp-content/uploads/2023/10/candle-making-workshop.jpg
END:VEVENT
BEGIN:VEVENT
DTSTART;TZID=UTC:20231004T190000
DTEND;TZID=UTC:20231004T220000
DTSTAMP:20260422T083110
CREATED:20230905T231518Z
LAST-MODIFIED:20231004T071521Z
UID:10000012-1696446000-1696456800@www.redlionshepperton.com
SUMMARY:Champagne Tasting Evening
DESCRIPTION:SATURDAY NIGHT LIVE!				\n				\n				\n				\n									Come and enjoy this duo…\n\n\nShow starts at 7pm.
URL:https://www.redlionshepperton.com/event/champagne-tasting-evening/
LOCATION:The Red Lion\, Russell Rd\, Shepperton\, TW17 9HX\, United Kingdom
ATTACH;FMTTYPE=image/jpeg:https://www.redlionshepperton.com/wp-content/uploads/2023/09/champagne-header.jpg
END:VEVENT
BEGIN:VEVENT
DTSTART;TZID=UTC:20230628T190000
DTEND;TZID=UTC:20230628T220000
DTSTAMP:20260422T083110
CREATED:20230614T114418Z
LAST-MODIFIED:20230626T163629Z
UID:10000011-1687978800-1687989600@www.redlionshepperton.com
SUMMARY:Meet The Winemaker - Dinner Experience
DESCRIPTION:SATURDAY NIGHT LIVE!				\n				\n				\n				\n									Come and enjoy this duo…\n\n\nShow starts at 7pm.
URL:https://www.redlionshepperton.com/event/meet-the-winemaker-dinner-experience/
LOCATION:The Red Lion\, Russell Rd\, Shepperton\, TW17 9HX\, United Kingdom
ATTACH;FMTTYPE=image/jpeg:https://www.redlionshepperton.com/wp-content/uploads/2023/06/winemaker-dinner-experience-feature-image.jpg
END:VEVENT
BEGIN:VEVENT
DTSTART;TZID=UTC:20230323T190000
DTEND;TZID=UTC:20230323T220000
DTSTAMP:20260422T083110
CREATED:20230222T092827Z
LAST-MODIFIED:20230302T094435Z
UID:10000010-1679598000-1679608800@www.redlionshepperton.com
SUMMARY:Rediscover South Africa
DESCRIPTION:SATURDAY NIGHT LIVE!				\n				\n				\n				\n									Come and enjoy this duo…\n\n\nShow starts at 7pm.
URL:https://www.redlionshepperton.com/event/rediscover-south-africa/
LOCATION:The Red Lion\, Russell Rd\, Shepperton\, TW17 9HX\, United Kingdom
ATTACH;FMTTYPE=image/jpeg:https://www.redlionshepperton.com/wp-content/uploads/2023/02/daniel-grigg.jpg
END:VEVENT
BEGIN:VEVENT
DTSTART;TZID=UTC:20230316T190000
DTEND;TZID=UTC:20230316T210000
DTSTAMP:20260422T083110
CREATED:20230217T184510Z
LAST-MODIFIED:20230308T085919Z
UID:10000008-1678993200-1679000400@www.redlionshepperton.com
SUMMARY:Discover South Africa
DESCRIPTION:SATURDAY NIGHT LIVE!				\n				\n				\n				\n									Come and enjoy this duo…\n\n\nShow starts at 7pm.
URL:https://www.redlionshepperton.com/event/discover-south-africa/
LOCATION:The Red Lion\, Russell Rd\, Shepperton\, TW17 9HX\, United Kingdom
ATTACH;FMTTYPE=image/jpeg:https://www.redlionshepperton.com/wp-content/uploads/2023/02/wine-tasting-discover-south-africa.jpg
END:VEVENT
END:VCALENDAR